BEGIN:VCALENDAR
VERSION:2.0
METHOD:PUBLISH
PRODID::-//Obvius//NONSGML ICal//DA
BEGIN:VEVENT
UID:4322153@engerom.ku.dk
DESCRIPTION:Christian Benne’s inaugural lecture as full professor of Eur
 opean Literature and Intellectual History at The University of Copenhagen 
 argues both historically and systematically for a closer relationship betw
 een literary studies and philosophy.\n\nhttps://engerom.ku.dk/english/cale
 ndar/.-christian-benne/
SUMMARY:Christian Benne\, Kopenhagen: &#8220\;Thinking with texts. Literar
 y studies and/as/of philosophy" (Tysk fredag)
CATEGORIES:Forelæsning
LOCATION:Lokale 23.0.49
DTSTART:20220909T120000Z
DTSTAMP:20220909T120000Z
DTEND:20220909T140000Z
END:VEVENT
END:VCALENDAR
