BEGIN:VCALENDAR
VERSION:2.0
METHOD:PUBLISH
PRODID::-//Obvius//NONSGML ICal//DA
BEGIN:VEVENT
UID:3300627@engerom.ku.dk
DESCRIPTION:Freitagsvorlesung (4/8) von Elisa Müller-Adams (Trier).\n\nh
 ttps://engerom.ku.dk/english/calendar/2019/das-meer-als-erinnerungsort/
SUMMARY:Das Meer als Erinnerungsort in der deutschen Gegenwartsliteratur
CATEGORIES:forelæsning
LOCATION:South Campus\, room 24.4.01
ORGANIZER:Department of English\, Germanic and Romance Studies / Germanic 
 Studies
DTSTART:20190329T120000Z
DTSTAMP:20190329T120000Z
END:VEVENT
END:VCALENDAR
