BEGIN:VCALENDAR
VERSION:2.0
METHOD:PUBLISH
PRODID::-//Obvius//NONSGML ICal//DA
BEGIN:VEVENT
UID:3408761@engerom.ku.dk
DESCRIPTION:Internationale germanistische Tagung – Kopenhagen\, 27.-29. 
 Juni 2019.\n\nhttps://engerom.ku.dk/english/calendar/2019/frhromantik/
SUMMARY:Wie theoriefähig ist die Frühromantik heute?
LOCATION:Nørregade 10 & South Campus
ORGANIZER:Department of English\, Germanic and Romance Studies / Christian
  Benne\, Alexander Knopf\, Andrea Albrecht & Kirk Wetters
DTSTART:20190626T220000Z
DTSTAMP:20190626T220000Z
DTEND:20190628T220000Z
END:VEVENT
END:VCALENDAR
