BEGIN:VCALENDAR
VERSION:2.0
METHOD:PUBLISH
PRODID::-//Obvius//NONSGML ICal//DA
BEGIN:VEVENT
UID:3500123@engerom.ku.dk
DESCRIPTION:Public Defence of PhD thesis by Inger Krarup Brøgger.\n\nhttp
 s://engerom.ku.dk/english/calendar/2019/the-kipling-that-everybody-read/
SUMMARY:The Kipling That Everybody Read: Narrative Strategies in the Early
  Short Stories of Rudyard Kipling
CATEGORIES:Ph.d.-forsvar
LOCATION:South Campus\, auditorium 22.0.11
ORGANIZER:Faculty of Humanities
DTSTART:20191106T120000Z
DTSTAMP:20191106T120000Z
DTEND:20191105T230000Z
END:VEVENT
END:VCALENDAR
