BEGIN:VCALENDAR
VERSION:2.0
METHOD:PUBLISH
PRODID::-//Obvius//NONSGML ICal//DA
BEGIN:VEVENT
UID:3489164@engerom.ku.dk
DESCRIPTION:Freitagsvorlesungen Herbst 2019 (7/8)\, diesmal mit Martin Sab
 row (Potsdam).\n\nhttps://engerom.ku.dk/english/calendar/2019/wunder-von-1
 989/
SUMMARY:Das &#8222\;Wunder von 1989&#8220\;: Vom unerwarteten Ereignis zum
  historischen Mythos (Geschichte der Demokratie in Deutschland IV)
CATEGORIES:Forelæsning
LOCATION:Campus Süd\, Raum 24.4.01
ORGANIZER:Department of English\, Germanic and Romance Studies
DTSTART:20191206T120000Z
DTSTAMP:20191206T120000Z
END:VEVENT
END:VCALENDAR
