BEGIN:VCALENDAR
VERSION:2.0
METHOD:PUBLISH
PRODID::-//Obvius//NONSGML ICal//DA
BEGIN:VEVENT
UID:3614531@engerom.ku.dk
DESCRIPTION:\nThe event is postponed until further notice.\n\n\nhttps://
 engerom.ku.dk/english/calendar/2020/die-minderheiten/
SUMMARY:CANCELLED: Die Minderheiten beiderseits der deutsch-dänischen Gre
 nze im Kontext der europäischen Minderheitenpolitik
CATEGORIES:Forelæsning
ORGANIZER:Department of English\, Germanic and Romance Studies / Anna Lena
  Sandberg 
DTSTART:20200326T230000Z
DTSTAMP:20200326T230000Z
END:VEVENT
END:VCALENDAR
