BEGIN:VCALENDAR
VERSION:2.0
METHOD:PUBLISH
PRODID::-//Obvius//NONSGML ICal//DA
BEGIN:VEVENT
UID:3816824@engerom.ku.dk
DESCRIPTION:Vorlesung von Kristoff Kerl\, Kopenhagen.\n\nhttps://engerom.
 ku.dk/english/calendar/2020/kristoff-kerl/
SUMMARY:Rausch und Revolution
CATEGORIES:Forelæsning
LOCATION:South Campus\, room 12-0-25 & 12-0-35 as well as Zoom
ORGANIZER:Department of English\, Germanic and Romance Studies / Tysk Fred
 ag
DTSTART:20201204T120000Z
DTSTAMP:20201204T120000Z
END:VEVENT
END:VCALENDAR
