BEGIN:VCALENDAR
VERSION:2.0
METHOD:PUBLISH
PRODID::-//Obvius//NONSGML ICal//DA
BEGIN:VEVENT
UID:4219265@engerom.ku.dk
DESCRIPTION:CANCELLED: Presentation by Pernille Berg Johnsson and Lars Beh
 nke.\n\nhttps://engerom.ku.dk/english/calendar/2022/danish-accent/
SUMMARY:CANCELLED: Danish accent in two different L2's
CATEGORIES:Oplæg
ORGANIZER:Department of English\, Germanic and Romance Studies / &#8221\;N
 orm\, Variation\, Language Change&#8221\;
DTSTART:20220516T131500Z
DTSTAMP:20220516T131500Z
DTEND:20220516T150000Z
END:VEVENT
END:VCALENDAR
