BEGIN:VCALENDAR
VERSION:2.0
METHOD:PUBLISH
PRODID::-//Obvius//NONSGML ICal//DA
BEGIN:VEVENT
UID:4291040@engerom.ku.dk
DESCRIPTION:Christian Benne: Thinking with texts. Literary studies and/as
 /of philosophy.Lene Østermark-Johansen: How to do things with words and 
 images – a speculative approach.\n\nhttps://engerom.ku.dk/english/calend
 ar/2022/inaugural-lecture/
SUMMARY:Inaugural lecture for Christian Benne and Lene Østermark-Johansen
 
CATEGORIES:Forelæsning
LOCATION:South Campus\, auditorium 23.0.49
ORGANIZER:Department of English\, Germanic and Romance Studies
DTSTART:20220909T120000Z
DTSTAMP:20220909T120000Z
DTEND:20220909T140000Z
END:VEVENT
END:VCALENDAR
