BEGIN:VCALENDAR
VERSION:2.0
METHOD:PUBLISH
PRODID::-//Obvius//NONSGML ICal//DA
BEGIN:VEVENT
UID:4140797@engerom.ku.dk
DESCRIPTION:Presentation by Alan O'Leary\, Associate Professor (Aarhus Uni
 versity).\n\nhttps://engerom.ku.dk/english/calendar/2022/italian-screen-st
 udies/
SUMMARY:Italian Screen Studies and Videographic Criticism
CATEGORIES:Oplæg
LOCATION:TBA
ORGANIZER:Department of English\, Germanic and Romance Studies / Italian L
 ectures
DTSTART:20220421T131500Z
DTSTAMP:20220421T131500Z
DTEND:20220421T150000Z
END:VEVENT
END:VCALENDAR
