BEGIN:VCALENDAR
VERSION:2.0
METHOD:PUBLISH
PRODID::-//Obvius//NONSGML ICal//DA
BEGIN:VEVENT
UID:4219253@engerom.ku.dk
DESCRIPTION:Presentation by Mirjam Schmuck.\n\nhttps://engerom.ku.dk/engli
 sh/calendar/2022/olaf-scholz/
SUMMARY:Olaf Scholz der "neue Merkel". Metaphorical Uses of Personal Names
  and the Role of Gender
CATEGORIES:Oplæg
LOCATION:Soundre Campus\, room 24.2.01
ORGANIZER: Department of English\, Germanic and Romance Studies / &#8221\;
 Norm\, Variation\, Language Change&#8221\;
DTSTART:20220406T131500Z
DTSTAMP:20220406T131500Z
DTEND:20220406T150000Z
END:VEVENT
END:VCALENDAR
