BEGIN:VCALENDAR
VERSION:2.0
METHOD:PUBLISH
PRODID::-//Obvius//NONSGML ICal//DA
BEGIN:VEVENT
UID:4428830@engerom.ku.dk
DESCRIPTION:Susanne Regener (Universität Siegen) im Gespräch mit: Irina 
 Hron (Kopenhagen).\n\nhttps://engerom.ku.dk/english/calendar/2023/real-dol
 ls/
SUMMARY:REAL DOLLS
CATEGORIES:Forelæsning
LOCATION:South Campus\, room 24.2.01
ORGANIZER:Department of English\, Germanic and Romance Studies / Tysk fred
 ag
DTSTART:20230224T121500Z
DTSTAMP:20230224T121500Z
DTEND:20230224T133000Z
END:VEVENT
END:VCALENDAR
