BEGIN:VCALENDAR
VERSION:2.0
METHOD:PUBLISH
PRODID::-//Obvius//NONSGML ICal//DA
BEGIN:VEVENT
UID:4502602@engerom.ku.dk
DESCRIPTION:A talk about translation and acting by the Shakespeare transl
 ator Niels Brunse and the actors Kristoffer Helmuth and Peter Høgsbro Tof
 tegaard.\n\nhttps://engerom.ku.dk/english/calendar/2023/translating-shakes
 peare/
SUMMARY:Translating Shakespeare &#8211\; for The Reader or The Theatre
CATEGORIES:Event
LOCATION:South Campus\, room 24.04.01
ORGANIZER:Department of English\, Germanic and Romance Studies / &#8217\;D
 et Socialfaglige Udvalg&#8217\; under the English Study
DTSTART:20230501T130000Z
DTSTAMP:20230501T130000Z
DTEND:20230501T160000Z
END:VEVENT
END:VCALENDAR
