BEGIN:VCALENDAR
VERSION:2.0
METHOD:PUBLISH
PRODID::-//Obvius//NONSGML ICal//DA
BEGIN:VEVENT
UID:4679726@engerom.ku.dk
DESCRIPTION:Seminar.\n\nhttps://engerom.ku.dk/english/calendar/2024/queeri
 ng-the-archive/
SUMMARY:Queering the archive
CATEGORIES:Seminar
LOCATION:South Campus\, room 27.0.09
ORGANIZER:Tobias de Fønss Wung-Sung and Amanda Grimsbo Roswall
DTSTART:20240404T100000Z
DTSTAMP:20240404T100000Z
DTEND:20240404T130000Z
END:VEVENT
END:VCALENDAR
