BEGIN:VCALENDAR
VERSION:2.0
METHOD:PUBLISH
PRODID::-//Obvius//NONSGML ICal//DA
BEGIN:VEVENT
UID:4787219@engerom.ku.dk
DESCRIPTION:This reading group is replaced by the event "Digital Humaniora
  - Culture and Text" at KUB.\n\nhttps://engerom.ku.dk/english/research/dcl
 /events/digital-humanities-reading-group-october/
SUMMARY:Digital Humanities reading group: October
CATEGORIES:Event
LOCATION:KUB South Campus\, the teaching room\, 1st floor
ORGANIZER:The Digital Humanities Reading Group
DTSTART:20241011T100000Z
DTSTAMP:20241011T100000Z
DTEND:20241011T140000Z
END:VEVENT
END:VCALENDAR
