BEGIN:VCALENDAR
VERSION:2.0
METHOD:PUBLISH
PRODID::-//Obvius//NONSGML ICal//DA
BEGIN:VEVENT
UID:5016319@engerom.ku.dk
DESCRIPTION:LaCiE Writing retreat: PhD student group.\n\nhttps://engerom.k
 u.dk/english/research/languages-and-cultures-in-education/events/2025/adva
 ncing-article-writing-skills/
SUMMARY:Advancing article writing skills
CATEGORIES:Event
ORGANIZER:LaCiE & Annika Schimpff
DTSTART:20251209T230000Z
DTSTAMP:20251209T230000Z
DTEND:20251209T230000Z
END:VEVENT
BEGIN:VEVENT
UID:4976879@engerom.ku.dk
DESCRIPTION:Dette Ã¥rs CIP-symposium sÃ¦tter fokus pÃ¥ hvordan flersproget
 hed og generativ AI bidrager til nye former for literacy der ser ud til at
  vokse frem i disse Ã¥r.Â \n\nhttps://engerom.ku.dk/forskning/lacie/arrang
 ementer/cip-symposium-2025/
SUMMARY:CIP Symposium 2025
CATEGORIES:Symposium
LOCATION:SÃ¸ndre Campus\, auditorium 9A.1.01 (Nanna Berg) og auditorium 4A
 .0.69 
ORGANIZER:Center for Internationalisering og Parallelsproglighed (CIP)
DTSTART:20251106T090000Z
DTSTAMP:20251106T090000Z
DTEND:20251106T150000Z
END:VEVENT
BEGIN:VEVENT
UID:4978686@engerom.ku.dk
DESCRIPTION:Tenure track adjunkt pÃ¥ CIP\, Sanne Larsen afholder undervisn
 ingsseminar som del af bedÃ¸mmelsesprocessen for meritering til lektor. Se
 minaret er Ã¥bent for alle interesserede.Â \n\nhttps://engerom.ku.dk/forsk
 ning/lacie/arrangementer/practical-uses-of-generative-ai---task-design-and
 -feedback/
SUMMARY:Practical uses of generative AI - task design and feedback
CATEGORIES:Seminar
LOCATION:Lokale 4A.0.68\, SÃ¸ndre Campus
ORGANIZER:Center for Internationalisering og Parallelsproglighed (CIP)
DTSTART:20251031T090000Z
DTSTAMP:20251031T090000Z
DTEND:20251031T103000Z
END:VEVENT
BEGIN:VEVENT
UID:4978427@engerom.ku.dk
DESCRIPTION:LaCiE talk withÂ Prof. Lavinia NÄƒdrag\, Ovidius University of
  Constanta\, Romania.\n\nhttps://engerom.ku.dk/english/research/languages-
 and-cultures-in-education/events/family-school-and-community-in-the-pluriv
 erse-of-current-education/
SUMMARY:Family\, School and Community in the Pluriverse of Current Educati
 on
CATEGORIES:OplÃ¦g
LOCATION:South Campus\, room 24.2.62
ORGANIZER:TheÂ LaCiE research group
DTSTART:20251029T104500Z
DTSTAMP:20251029T104500Z
DTEND:20251029T114500Z
END:VEVENT
BEGIN:VEVENT
UID:4976885@engerom.ku.dk
DESCRIPTION:LaCiE talk withÂ Rachele Oggionni\, UniversitÃ  di Pavia.\n\nh
 ttps://engerom.ku.dk/english/research/languages-and-cultures-in-education/
 events/2025/observing-spontaneous-speech-in-preschool-settings/
SUMMARY:Observing Spontaneous Speech in Preschool Settings
CATEGORIES:OplÃ¦g
ORGANIZER:LaCiE research group
DTSTART:20250626T120100Z
DTSTAMP:20250626T120100Z
END:VEVENT
BEGIN:VEVENT
UID:4976888@engerom.ku.dk
DESCRIPTION:LaCiE forskningsgruppen inviterer til Dea Jespersens predefenc
 e.\n\nhttps://engerom.ku.dk/forskning/lacie/tidligere-arrangementer/dea-je
 spersens-predefence/
SUMMARY:Dea Jespersens predefence
CATEGORIES:Event
LOCATION:SÃ¸ndre Campus\, lokale 24.1.11
ORGANIZER:LaCiE
DTSTART:20250519T080000Z
DTSTAMP:20250519T080000Z
DTEND:20250519T100000Z
END:VEVENT
BEGIN:VEVENT
UID:4855642@engerom.ku.dk
DESCRIPTION:Institut for Engelsk\, Germansk og Romansk pÃ¥ KÃ¸benhavns Uni
 versitet inviterer til den Ã¥rlige gymnasiedag\, hvor sproglÃ¦rere fra hel
 e landet kan lade sig inspirere af den nyeste forskning.\n\nhttps://engero
 m.ku.dk/forskning/lacie/arrangementer/madspild-og-den-funktionelle-tilgang
 -i-sprogundervisningen/
SUMMARY:Madspild og den funktionelle tilgang i sprogundervisningen
CATEGORIES:Event
LOCATION:SÃ¸ndre Campus\, Auditorium 4A-0-69
ORGANIZER:Institut for Engelsk\, Germansk og Romansk
DTSTART:20250306T073000Z
DTSTAMP:20250306T073000Z
DTEND:20250306T160000Z
END:VEVENT
BEGIN:VEVENT
UID:4813964@engerom.ku.dk
DESCRIPTION:The Enida project invites you to a reception for theÂ publicat
 ion of the book:Â Engelsk i Danmark - Whatâ€™s the Story?\n\nhttps://enger
 om.ku.dk/english/research/languages-and-cultures-in-education/events/2024/
 reception-engelsk-i-danmark/
SUMMARY:Reception: Engelsk i Danmark &#8211\; What&#8217\;s the story?
LOCATION:South Campus\, Engerom Library\, building 23\, 3rd floor. 
ORGANIZER:Department of English\, Germanic and Romance Studies / The Enida
  project
DTSTART:20241122T140000Z
DTSTAMP:20241122T140000Z
DTEND:20241122T153000Z
END:VEVENT
BEGIN:VEVENT
UID:4813958@engerom.ku.dk
DESCRIPTION:Invitation to CIPs annual Symposium om Thursday 21 November 20
 24 from: 10:00 - 16:00 at South Campus\, Amager.Â \n\nhttps://engerom.ku.d
 k/english/research/languages-and-cultures-in-education/events/2024/cip-sym
 posium-2024/
SUMMARY:CIP Symposium 2024: Translanguaging and AI
CATEGORIES:Symposium
LOCATION:Room 4A.0.69\, South Campus including reception in the lobby from
  16.00-17.00.
DTSTART:20241121T090000Z
DTSTAMP:20241121T090000Z
DTEND:20241121T150000Z
END:VEVENT
BEGIN:VEVENT
UID:4813331@engerom.ku.dk
DESCRIPTION:LaCiE PhD writing retreat with focus on advancing article writ
 ing skills.\n\nhttps://engerom.ku.dk/english/research/languages-and-cultur
 es-in-education/events/2024/lacie-writing-retreat-phd-student-group/
SUMMARY:LaCiE Writing retreat: PhD student group
CATEGORIES:Workshop
ORGANIZER:LaCiE & Annika Schimpff
DTSTART:20241114T230000Z
DTSTAMP:20241114T230000Z
END:VEVENT
BEGIN:VEVENT
UID:4686980@engerom.ku.dk
DESCRIPTION:Seminar mit Beate Lindemann\, UiT Norwegian Arctic University.
 \n\nhttps://engerom.ku.dk/english/research/languages-and-cultures-in-educa
 tion/events/2024/fordermassnahmen-fur-deutschstudienangebote-an-universita
 ten-und-hochschulen/
SUMMARY:FÃ¶rdermaÃŸnahmen fÃ¼r Deutschstudienangebote an UniversitÃ¤ten un
 d Hochschulen
CATEGORIES:Seminar
LOCATION:South Campus\, room 24.2.62
ORGANIZER:The research group Languages and Cultures in Education\, Petra D
 aryai-Hansen
DTSTART:20240425T080000Z
DTSTAMP:20240425T080000Z
DTEND:20240425T100000Z
END:VEVENT
BEGIN:VEVENT
UID:4634022@engerom.ku.dk
DESCRIPTION:The research group Language and Cultures in Education (LaCiE) 
 organizes a PhD course.\n\nhttps://engerom.ku.dk/english/research/language
 s-and-cultures-in-education/events/phd-course-ethical-dilemmas-in-educatio
 nal-research/
SUMMARY:PhD Course: Ethical dilemmas in educational research 
CATEGORIES:Seminar
LOCATION:South Campus\, University of Copenhagen
ORGANIZER:Language and Cultures in Education (LaCiE)
DTSTART:20240416T220000Z
DTSTAMP:20240416T220000Z
DTEND:20240416T220000Z
END:VEVENT
BEGIN:VEVENT
UID:4642647@engerom.ku.dk
DESCRIPTION:Dette symposium har til formÃ¥l at udveksle erfaringer\, dele 
 viden og drÃ¸fte mulige fremtidige tiltag og udviklingspotentialer.\n\nhtt
 ps://engerom.ku.dk/forskning/lacie/arrangementer/symposium-om-sprogloeft/
SUMMARY:Symposium om sproglÃ¸ft pÃ¥ tvÃ¦rs af de videregÃ¥ende uddannelser
 
CATEGORIES:Symposium
LOCATION:SÃ¸ndre Campus\, auditorium 23.0.49
ORGANIZER:Institut for Engelsk\, Germansk og Romansk\, forskningsgruppen S
 prog og kulturer i uddannelsessystemet (LaCiE)\, Petra Daryai-Hansen
DTSTART:20240411T081500Z
DTSTAMP:20240411T081500Z
DTEND:20240411T140000Z
END:VEVENT
BEGIN:VEVENT
UID:4634349@engerom.ku.dk
DESCRIPTION:Institut for Engelsk\, Germansk og Romansk pÃ¥ KÃ¸benhavns Uni
 versitet inviterer til en gymnasiedag\, hvor I kan komme og hÃ¸re om aktue
 l forskning af relevans for sprogfagene\, som kan inspirere jeres egen und
 ervisning.\n\nhttps://engerom.ku.dk/english/research/languages-and-culture
 s-in-education/events/2024/mundtlighed-i-fremmedsprogsfagene-og-verden-ind
 -i-sprogundervisningen/
SUMMARY:Mundtlighed i fremmedsprogsfagene og verden ind i sprogundervisnin
 gen
CATEGORIES:Event
LOCATION:SÃ¸ndre Campus\, lokale 4A.0.69
ORGANIZER:Institut for Engelsk\, Germansk og Romansk
DTSTART:20240307T073000Z
DTSTAMP:20240307T073000Z
DTEND:20240307T160000Z
END:VEVENT
BEGIN:VEVENT
UID:4627875@engerom.ku.dk
DESCRIPTION:Public defence of PhD thesis by Natascha Drachmann\n\nhttps://
 engerom.ku.dk/english/research/languages-and-cultures-in-education/events/
 sproglig-opmaerksomhed-via-en-flersprogethedsdidaktik/
SUMMARY:Sproglig opmÃ¦rksomhed via en flersprogethedsdidaktik
CATEGORIES:Ph.d.-forsvar
LOCATION:South Campus\, room 22.0.11
ORGANIZER:Department of English\, Germanic and Romance Studies
DTSTART:20240105T120000Z
DTSTAMP:20240105T120000Z
END:VEVENT
BEGIN:VEVENT
UID:4634049@engerom.ku.dk
DESCRIPTION:\n\nhttps://engerom.ku.dk/english/research/languages-and-cultu
 res-in-education/events/writing-retreat-focus-on-methodologies-and-researc
 h-design---phd-student-group/
SUMMARY:Writing retreat: Focus on methodologies and research design - PhD 
 student group
CATEGORIES:Event
ORGANIZER:Language and Cultures in Education (LaCiE)
DTSTART:20231218T230000Z
DTSTAMP:20231218T230000Z
DTEND:20231219T230000Z
END:VEVENT
BEGIN:VEVENT
UID:4568730@engerom.ku.dk
DESCRIPTION:Language and Cultures in Education (LaCiE) invites to a colloq
 uium.\n\nhttps://engerom.ku.dk/english/research/languages-and-cultures-in-
 education/events/multilingualism-matters/
SUMMARY:Multilingualism Matters: Exploring Affective Aspects and Linguisti
 c Distance in Language Learning
CATEGORIES:Seminar
LOCATION:TBA
ORGANIZER:Language and Cultures in Education (LaCiE)
DTSTART:20230928T120000Z
DTSTAMP:20230928T120000Z
DTEND:20230928T140000Z
END:VEVENT
BEGIN:VEVENT
UID:4499512@engerom.ku.dk
DESCRIPTION:FrokostmÃ¸det er internt for forskningsgruppen.Â \n\nhttps://e
 ngerom.ku.dk/forskning/lacie/arrangementer/frokostmoede-5/
SUMMARY:FrokostmÃ¸de med LaCiE ph.d.-gruppen
CATEGORIES:Event
DTSTART:20230704T100000Z
DTSTAMP:20230704T100000Z
DTEND:20230704T110000Z
END:VEVENT
BEGIN:VEVENT
UID:4472646@engerom.ku.dk
DESCRIPTION:10th International Conference of theÂ Education and Linguistic
  and Cultural DiversityÂ Association (EDiLiC).\n\nhttps://engerom.ku.dk/en
 glish/research/languages-and-cultures-in-education/events/ud/
SUMMARY:From Early Childhood to Adulthood: Transitions\, Continuity\, and 
 Disruptions in Plurilingual Education
CATEGORIES:Konference
LOCATION:South Campus\, auditorium 23.0.50\, Emil Holms Kanal 4\, 2300 Cop
 enhagen S\, building 23 
ORGANIZER:Department of English\, Germanic and Romance Studies\, Research 
 group Languages and Cultures in Education (LaCiE)\, Petra Daryai-Hansen. Â
  edilic2023@hum.ku.dk
DTSTART:20230627T220000Z
DTSTAMP:20230627T220000Z
DTEND:20230629T220000Z
END:VEVENT
BEGIN:VEVENT
UID:4499506@engerom.ku.dk
DESCRIPTION:FrokostmÃ¸det er internt for forskningsgruppen.Â \n\nhttps://e
 ngerom.ku.dk/forskning/lacie/arrangementer/frokostmoede-4/
SUMMARY:FrokostmÃ¸de med LaCiE ph.d.-gruppen
CATEGORIES:Event
DTSTART:20230615T100000Z
DTSTAMP:20230615T100000Z
DTEND:20230615T110000Z
END:VEVENT
BEGIN:VEVENT
UID:4499479@engerom.ku.dk
DESCRIPTION:FrokostmÃ¸det er internt for forskningsgruppen.Â \n\nhttps://e
 ngerom.ku.dk/forskning/lacie/arrangementer/frokostmoede-3/
SUMMARY:FrokostmÃ¸de med LaCiE ph.d.-gruppen
CATEGORIES:Event
DTSTART:20230524T100000Z
DTSTAMP:20230524T100000Z
DTEND:20230524T110000Z
END:VEVENT
BEGIN:VEVENT
UID:4681490@engerom.ku.dk
DESCRIPTION:Forskere fra CIP og Engerom inviterer til fÃ¦lles seminar om b
 rugen af chatbots i sprogundervisningen\, mandag den 15. maj kl.14.00-17.0
 0 i lokale 15a.0.13. Tilmelding senest den 12. maj kl. 12.00.Â \n\nhttps:/
 /engerom.ku.dk/english/research/languages-and-cultures-in-education/events
 /baat-bot---ai-coming-through/
SUMMARY:BÃ¥t\, bot - AI coming through!
LOCATION:SÃ¸ndre campus\, lokale 15A.0.13
ORGANIZER:Center for Internationalisering og Parallelsproglighed (CIP) og 
 Languages and Cultures in Education (LaCiE)
DTSTART:20230515T120000Z
DTSTAMP:20230515T120000Z
DTEND:20230515T150000Z
END:VEVENT
BEGIN:VEVENT
UID:4473252@engerom.ku.dk
DESCRIPTION:Seminaret er internt for forskningsgruppen.\n\nhttps://engerom
 .ku.dk/forskning/lacie/arrangementer/lacie-seminar-hvordan-definerer-du-fl
 ersprogethed-og-hvad-betyder-flersprogethed-i-din-forskning-ogeller-underv
 isning/
SUMMARY:LaCiE-seminar: Hvordan definerer du flersprogethed og hvad betyder
  flersprogethed i din forskning og/eller undervisning?
CATEGORIES:Seminar
DTSTART:20230510T110000Z
DTSTAMP:20230510T110000Z
DTEND:20230510T130000Z
END:VEVENT
BEGIN:VEVENT
UID:4499467@engerom.ku.dk
DESCRIPTION:FrokostmÃ¸det er internt for forskningsgruppen.Â \n\nhttps://e
 ngerom.ku.dk/forskning/lacie/arrangementer/frokostmoede-2/
SUMMARY:FrokostmÃ¸de med LaCiE ph.d.-gruppen
CATEGORIES:Event
DTSTART:20230501T100000Z
DTSTAMP:20230501T100000Z
DTEND:20230501T110000Z
END:VEVENT
BEGIN:VEVENT
UID:4499461@engerom.ku.dk
DESCRIPTION:FrokostmÃ¸det er internt for forskningsgruppen.Â \n\nhttps://e
 ngerom.ku.dk/forskning/lacie/arrangementer/frokostmoede-1/
SUMMARY:FrokostmÃ¸de med LaCiE ph.d.-gruppen
CATEGORIES:Event
DTSTART:20230413T100000Z
DTSTAMP:20230413T100000Z
DTEND:20230413T110000Z
END:VEVENT
BEGIN:VEVENT
UID:4424067@engerom.ku.dk
DESCRIPTION:Institut for Engelsk\, Germansk og Romansk inviterer gymnasiel
 Ã¦rere til en sprogdag om fremmedsprog.Â Emnerne er brugen af digitale ove
 rsÃ¦ttelsesvÃ¦rktÃ¸jer i fremmedsprogsundervisningen og forholdet mellem s
 prog og kÃ¸n.\n\nhttps://engerom.ku.dk/forskning/lacie/arrangementer/digit
 ale-oversaettelsesvaerktoejer-og-sprog-og-koen/
SUMMARY:Digitale oversÃ¦ttelsesvÃ¦rktÃ¸jer og sprog og kÃ¸n
CATEGORIES:Event
LOCATION:SÃ¸ndre Campus\, auditorium 4A-0-69
ORGANIZER:Institut for Engelsk\, Germansk og Romansk
DTSTART:20230316T073000Z
DTSTAMP:20230316T073000Z
DTEND:20230316T150000Z
END:VEVENT
BEGIN:VEVENT
UID:4325129@engerom.ku.dk
DESCRIPTION:Talk by Anne Holmen og Sanne Larsen (both from CIP).\n\nhttps:
 //engerom.ku.dk/english/research/languages-and-cultures-in-education/event
 s/sprog-som-tillaegskompetence/
SUMMARY:Language as an additional competence
CATEGORIES:OplÃ¦g
LOCATION:South Campus\, room 24.2.07
ORGANIZER:Department of English\, Germanic and Romance tudies / Research G
 roup Languages in Education
DTSTART:20221214T141500Z
DTSTAMP:20221214T141500Z
DTEND:20221214T160000Z
END:VEVENT
BEGIN:VEVENT
UID:4325000@engerom.ku.dk
DESCRIPTION:Talk by PhD student Dea Jespersen.\n\nhttps://engerom.ku.dk/en
 glish/research/languages-and-cultures-in-education/events/local-tests-loca
 l-contexts/
SUMMARY:Om at bruge keystrokelogging til at undersÃ¸ge skriveprocesser i L
 2 i en dansk kontekst: muligheder og udfordringer
CATEGORIES:OplÃ¦g
LOCATION:South Campus\, room 23.2.39
ORGANIZER:Department of English\, Germanic and Romance tudies / Research G
 roup Languages in Education
DTSTART:20221122T141500Z
DTSTAMP:20221122T141500Z
DTEND:20221122T160000Z
END:VEVENT
BEGIN:VEVENT
UID:4325012@engerom.ku.dk
DESCRIPTION:Presentation byÂ Yao Zhang\, PhD student.\n\nhttps://engerom.k
 u.dk/english/research/languages-and-cultures-in-education/events/exploring
 -problem-sources-of-disfluency-in-second-language-production-in-consecutiv
 e-interpreting/
SUMMARY:Exploring Problem Sources of Disfluency in Second Language Product
 ion in Consecutive Interpreting
CATEGORIES:OplÃ¦g
LOCATION:South Campus\, room 24.2.11
ORGANIZER:Department of English\, Germanic and Romance tudies / Research G
 roup Languages in Education
DTSTART:20221102T131500Z
DTSTAMP:20221102T131500Z
DTEND:20221102T150000Z
END:VEVENT
END:VCALENDAR
