BEGIN:VCALENDAR
VERSION:2.0
METHOD:PUBLISH
PRODID::-//Obvius//NONSGML ICal//DA
BEGIN:VEVENT
UID:4575951@engerom.ku.dk
DESCRIPTION:Präsentationen von MA-Arbeiten.\n\nhttps://engerom.ku.dk/kale
 nder/2023/prsentationen-von-ma-arbeiten/
SUMMARY:Präsentationen von MA-Arbeiten / Specialepræsentationer fra tysk
 studiet
CATEGORIES:Event
LOCATION:Søndre Campus\, lokale 24.2.01
ORGANIZER:Institut for Engelsk\, Romansk og Germansk / Tysk fredag
DTSTART:20231117T121500Z
DTSTAMP:20231117T121500Z
DTEND:20231117T140000Z
END:VEVENT
END:VCALENDAR
